BEGIN:VCALENDAR
VERSION:2.0
PRODID:-//Deutscher Racquetball Verband e.V. - ECPv6.15.20//NONSGML v1.0//EN
CALSCALE:GREGORIAN
METHOD:PUBLISH
X-WR-CALNAME:Deutscher Racquetball Verband e.V.
X-ORIGINAL-URL:https://racquetball.de
X-WR-CALDESC:Veranstaltungen für Deutscher Racquetball Verband e.V.
REFRESH-INTERVAL;VALUE=DURATION:PT1H
X-Robots-Tag:noindex
X-PUBLISHED-TTL:PT1H
BEGIN:VTIMEZONE
TZID:Europe/Berlin
BEGIN:DAYLIGHT
TZOFFSETFROM:+0100
TZOFFSETTO:+0200
TZNAME:CEST
DTSTART:20240331T010000
END:DAYLIGHT
BEGIN:STANDARD
TZOFFSETFROM:+0200
TZOFFSETTO:+0100
TZNAME:CET
DTSTART:20241027T010000
END:STANDARD
BEGIN:DAYLIGHT
TZOFFSETFROM:+0100
TZOFFSETTO:+0200
TZNAME:CEST
DTSTART:20250330T010000
END:DAYLIGHT
BEGIN:STANDARD
TZOFFSETFROM:+0200
TZOFFSETTO:+0100
TZNAME:CET
DTSTART:20251026T010000
END:STANDARD
BEGIN:DAYLIGHT
TZOFFSETFROM:+0100
TZOFFSETTO:+0200
TZNAME:CEST
DTSTART:20260329T010000
END:DAYLIGHT
BEGIN:STANDARD
TZOFFSETFROM:+0200
TZOFFSETTO:+0100
TZNAME:CET
DTSTART:20261025T010000
END:STANDARD
END:VTIMEZONE
BEGIN:VEVENT
DTSTART;VALUE=DATE:20251115
DTEND;VALUE=DATE:20251116
DTSTAMP:20260421T195759
CREATED:20250915T114733Z
LAST-MODIFIED:20251029T081555Z
UID:8877-1763164800-1763251199@racquetball.de
SUMMARY:Rheinland Pfalz Meisterschaften 2025
DESCRIPTION:
URL:https://racquetball.de/event/rheinland-pfalz-meisterschaften-2025/
LOCATION:Racquetball Club Worms e.V.\, Mainzer Straße\, Worms\, 67547\, Deutschland
ATTACH;FMTTYPE=image/jpeg:https://racquetball.de/wp-content/uploads/2025/09/RheinlandPfalzMeisterschaften2025-scaled.jpg
ORGANIZER;CN="Racquetball Club Worms e.V.":MAILTO:drbv@racquetball.de
END:VEVENT
END:VCALENDAR