BEGIN:VCALENDAR
VERSION:2.0
PRODID:-//Deutscher Racquetball Verband e.V. - ECPv6.15.20//NONSGML v1.0//EN
CALSCALE:GREGORIAN
METHOD:PUBLISH
X-WR-CALNAME:Deutscher Racquetball Verband e.V.
X-ORIGINAL-URL:https://racquetball.de
X-WR-CALDESC:Veranstaltungen für Deutscher Racquetball Verband e.V.
REFRESH-INTERVAL;VALUE=DURATION:PT1H
X-Robots-Tag:noindex
X-PUBLISHED-TTL:PT1H
BEGIN:VTIMEZONE
TZID:Europe/Berlin
BEGIN:DAYLIGHT
TZOFFSETFROM:+0100
TZOFFSETTO:+0200
TZNAME:CEST
DTSTART:20240331T010000
END:DAYLIGHT
BEGIN:STANDARD
TZOFFSETFROM:+0200
TZOFFSETTO:+0100
TZNAME:CET
DTSTART:20241027T010000
END:STANDARD
BEGIN:DAYLIGHT
TZOFFSETFROM:+0100
TZOFFSETTO:+0200
TZNAME:CEST
DTSTART:20250330T010000
END:DAYLIGHT
BEGIN:STANDARD
TZOFFSETFROM:+0200
TZOFFSETTO:+0100
TZNAME:CET
DTSTART:20251026T010000
END:STANDARD
BEGIN:DAYLIGHT
TZOFFSETFROM:+0100
TZOFFSETTO:+0200
TZNAME:CEST
DTSTART:20260329T010000
END:DAYLIGHT
BEGIN:STANDARD
TZOFFSETFROM:+0200
TZOFFSETTO:+0100
TZNAME:CET
DTSTART:20261025T010000
END:STANDARD
END:VTIMEZONE
BEGIN:VEVENT
DTSTART;VALUE=DATE:20251206
DTEND;VALUE=DATE:20251208
DTSTAMP:20260421T181011
CREATED:20250926T065012Z
LAST-MODIFIED:20251017T075515Z
UID:8957-1764979200-1765151999@racquetball.de
SUMMARY:Wiesbaden Open 2025
DESCRIPTION:
URL:https://racquetball.de/event/wiesbaden-open-2025/
LOCATION:Wiesbaden Fitness Center
ATTACH;FMTTYPE=image/jpeg:https://racquetball.de/wp-content/uploads/2025/10/WiesbadenOpen20253.jpg
ORGANIZER;CN="Deutscher Racquetball Verband":MAILTO:DRBV@racquetball.de
END:VEVENT
BEGIN:VEVENT
DTSTART;VALUE=DATE:20251212
DTEND;VALUE=DATE:20251214
DTSTAMP:20260421T181011
CREATED:20250915T115031Z
LAST-MODIFIED:20250925T190407Z
UID:8881-1765497600-1765670399@racquetball.de
SUMMARY:Hamburger Meisterschaften 2025
DESCRIPTION:
URL:https://racquetball.de/event/hamburger-meisterschaften-2025/
LOCATION:Sport & Spa Jenfeld\, Barsbütteler Straße 43\, Hamburg\, 22043\, Deutschland
ATTACH;FMTTYPE=image/jpeg:https://racquetball.de/wp-content/uploads/2025/09/HHMeisterschaften20253.jpg
ORGANIZER;CN="Hamburg Racquetball":MAILTO:lvhamburg@racquetball.de
END:VEVENT
END:VCALENDAR